BEGIN:VCALENDAR
VERSION:2.0
PRODID:-//Tibetan Mediation Center - ECPv6.15.20//NONSGML v1.0//EN
CALSCALE:GREGORIAN
METHOD:PUBLISH
X-WR-CALNAME:Tibetan Mediation Center
X-ORIGINAL-URL:https://www.drikungtmc.com
X-WR-CALDESC:Events for Tibetan Mediation Center
REFRESH-INTERVAL;VALUE=DURATION:PT1H
X-Robots-Tag:noindex
X-PUBLISHED-TTL:PT1H
BEGIN:VTIMEZONE
TZID:America/New_York
BEGIN:DAYLIGHT
TZOFFSETFROM:-0500
TZOFFSETTO:-0400
TZNAME:EDT
DTSTART:20250309T070000
END:DAYLIGHT
BEGIN:STANDARD
TZOFFSETFROM:-0400
TZOFFSETTO:-0500
TZNAME:EST
DTSTART:20251102T060000
END:STANDARD
BEGIN:DAYLIGHT
TZOFFSETFROM:-0500
TZOFFSETTO:-0400
TZNAME:EDT
DTSTART:20260308T070000
END:DAYLIGHT
BEGIN:STANDARD
TZOFFSETFROM:-0400
TZOFFSETTO:-0500
TZNAME:EST
DTSTART:20261101T060000
END:STANDARD
BEGIN:DAYLIGHT
TZOFFSETFROM:-0500
TZOFFSETTO:-0400
TZNAME:EDT
DTSTART:20270314T070000
END:DAYLIGHT
BEGIN:STANDARD
TZOFFSETFROM:-0400
TZOFFSETTO:-0500
TZNAME:EST
DTSTART:20271107T060000
END:STANDARD
END:VTIMEZONE
BEGIN:VEVENT
DTSTART;TZID=America/New_York:20260118T100000
DTEND;TZID=America/New_York:20260118T120000
DTSTAMP:20260421T145844
CREATED:20260116T234743Z
LAST-MODIFIED:20260116T234743Z
UID:10002066-1768730400-1768737600@www.drikungtmc.com
SUMMARY:Simhanada Practice
DESCRIPTION:Simhanada Practice led by Lama Rigzin \nPlease join us in-person or by Zoom using login information on homepage of this site
URL:https://www.drikungtmc.com/event/simhanada-practice/
LOCATION:Tibetan Meditation Center
CATEGORIES:Practice
ORGANIZER;CN="Tony Hursey":MAILTO:drikungweb@gmail.com
END:VEVENT
END:VCALENDAR