BEGIN:VCALENDAR
VERSION:2.0
PRODID:-//Tibetan Mediation Center - ECPv6.15.20//NONSGML v1.0//EN
CALSCALE:GREGORIAN
METHOD:PUBLISH
X-WR-CALNAME:Tibetan Mediation Center
X-ORIGINAL-URL:https://www.drikungtmc.com
X-WR-CALDESC:Events for Tibetan Mediation Center
REFRESH-INTERVAL;VALUE=DURATION:PT1H
X-Robots-Tag:noindex
X-PUBLISHED-TTL:PT1H
BEGIN:VTIMEZONE
TZID:America/New_York
BEGIN:DAYLIGHT
TZOFFSETFROM:-0500
TZOFFSETTO:-0400
TZNAME:EDT
DTSTART:20220313T070000
END:DAYLIGHT
BEGIN:STANDARD
TZOFFSETFROM:-0400
TZOFFSETTO:-0500
TZNAME:EST
DTSTART:20221106T060000
END:STANDARD
BEGIN:DAYLIGHT
TZOFFSETFROM:-0500
TZOFFSETTO:-0400
TZNAME:EDT
DTSTART:20230312T070000
END:DAYLIGHT
BEGIN:STANDARD
TZOFFSETFROM:-0400
TZOFFSETTO:-0500
TZNAME:EST
DTSTART:20231105T060000
END:STANDARD
BEGIN:DAYLIGHT
TZOFFSETFROM:-0500
TZOFFSETTO:-0400
TZNAME:EDT
DTSTART:20240310T070000
END:DAYLIGHT
BEGIN:STANDARD
TZOFFSETFROM:-0400
TZOFFSETTO:-0500
TZNAME:EST
DTSTART:20241103T060000
END:STANDARD
END:VTIMEZONE
BEGIN:VEVENT
DTSTART;TZID=America/New_York:20231226T100000
DTEND;TZID=America/New_York:20231226T163000
DTSTAMP:20260422T083454
CREATED:20231208T035650Z
LAST-MODIFIED:20231208T035650Z
UID:10000082-1703584800-1703608200@www.drikungtmc.com
SUMMARY:Winter Retreat - Day 1 - Chakrasamvara
DESCRIPTION:Chakrasamvara Empowerment and Teaching \nEmpowerment 10a – 12noon \nTeaching 2 – 4:30p \nLed Khenpo Tsultrim Tenzin Rinpoche \nJoin in-person or by Zoom
URL:https://www.drikungtmc.com/event/winter-retreat-day-1-chakrasamvara/
LOCATION:Tibetan Meditation Center
CATEGORIES:Empowerment,Teaching
ORGANIZER;CN="Tony Hursey":MAILTO:drikungweb@gmail.com
END:VEVENT
BEGIN:VEVENT
DTSTART;TZID=America/New_York:20231228T100000
DTEND;TZID=America/New_York:20231228T163000
DTSTAMP:20260422T083454
CREATED:20231208T042806Z
LAST-MODIFIED:20231208T042806Z
UID:10000085-1703757600-1703781000@www.drikungtmc.com
SUMMARY:Winter Retreat - Day 3 - Fivefold Path of Mahamudra
DESCRIPTION:Fivefold Path of Mahamudra Torma Empowerment and Teaching \nEmpowerment 10a – 12noon \nTeaching 82 – 4:30p \nLed Khenpo Tsultrim Tenzin Rinpoche \nJoin in-person or by Zoom
URL:https://www.drikungtmc.com/event/winter-retreat-day-3-fivefold-path-of-mahamudra-2/
LOCATION:Tibetan Meditation Center
CATEGORIES:Empowerment,Teaching
ORGANIZER;CN="Tony Hursey":MAILTO:drikungweb@gmail.com
END:VEVENT
BEGIN:VEVENT
DTSTART;TZID=America/New_York:20231231T100000
DTEND;TZID=America/New_York:20231231T123000
DTSTAMP:20260422T083454
CREATED:20231208T043932Z
LAST-MODIFIED:20231208T043932Z
UID:10000087-1704016800-1704025800@www.drikungtmc.com
SUMMARY:Winter Retreat - Day 6 - Ta Chag Khyung Sum triple empowerment
DESCRIPTION:Ta Chag Khyung Sum triple empowerment – Hayagriva\, Varjrapani\, and Garuda \nEmpowerment 10a – 12noon \nLed Khenpo Tsultrim Tenzin Rinpoche Join in-person or by Zoom
URL:https://www.drikungtmc.com/event/winter-retreat-day-6-ta-chag-khyung-sum-triple-empowerment/
LOCATION:Tibetan Meditation Center
CATEGORIES:Empowerment
ORGANIZER;CN="Tony Hursey":MAILTO:drikungweb@gmail.com
END:VEVENT
END:VCALENDAR