BEGIN:VCALENDAR
VERSION:2.0
PRODID:-//Tibetan Mediation Center - ECPv6.15.20//NONSGML v1.0//EN
CALSCALE:GREGORIAN
METHOD:PUBLISH
X-ORIGINAL-URL:https://www.drikungtmc.com
X-WR-CALDESC:Events for Tibetan Mediation Center
REFRESH-INTERVAL;VALUE=DURATION:PT1H
X-Robots-Tag:noindex
X-PUBLISHED-TTL:PT1H
BEGIN:VTIMEZONE
TZID:America/New_York
BEGIN:DAYLIGHT
TZOFFSETFROM:-0500
TZOFFSETTO:-0400
TZNAME:EDT
DTSTART:20240310T070000
END:DAYLIGHT
BEGIN:STANDARD
TZOFFSETFROM:-0400
TZOFFSETTO:-0500
TZNAME:EST
DTSTART:20241103T060000
END:STANDARD
BEGIN:DAYLIGHT
TZOFFSETFROM:-0500
TZOFFSETTO:-0400
TZNAME:EDT
DTSTART:20250309T070000
END:DAYLIGHT
BEGIN:STANDARD
TZOFFSETFROM:-0400
TZOFFSETTO:-0500
TZNAME:EST
DTSTART:20251102T060000
END:STANDARD
BEGIN:DAYLIGHT
TZOFFSETFROM:-0500
TZOFFSETTO:-0400
TZNAME:EDT
DTSTART:20260308T070000
END:DAYLIGHT
BEGIN:STANDARD
TZOFFSETFROM:-0400
TZOFFSETTO:-0500
TZNAME:EST
DTSTART:20261101T060000
END:STANDARD
BEGIN:DAYLIGHT
TZOFFSETFROM:-0500
TZOFFSETTO:-0400
TZNAME:EDT
DTSTART:20270314T070000
END:DAYLIGHT
BEGIN:STANDARD
TZOFFSETFROM:-0400
TZOFFSETTO:-0500
TZNAME:EST
DTSTART:20271107T060000
END:STANDARD
END:VTIMEZONE
BEGIN:VEVENT
DTSTART;TZID=America/New_York:20250816T100000
DTEND;TZID=America/New_York:20250816T120000
DTSTAMP:20260422T182040
CREATED:20250814T031240Z
LAST-MODIFIED:20250814T031240Z
UID:10001949-1755338400-1755345600@www.drikungtmc.com
SUMMARY:Amitabha Empowerment
DESCRIPTION:Amitabha Empowerment led by Khenpo Tsultrim Tenzin Rinpoche \nIn-person or by Zoom at: \n872-1875-1087 \nPW: tmcdharma
URL:https://www.drikungtmc.com/event/amitabha-empowerment/
LOCATION:Tibetan Meditation Center
CATEGORIES:Empowerment
ORGANIZER;CN="Tony Hursey":MAILTO:drikungweb@gmail.com
END:VEVENT
BEGIN:VEVENT
DTSTART;TZID=America/New_York:20250927T100000
DTEND;TZID=America/New_York:20250927T120000
DTSTAMP:20260422T182040
CREATED:20250828T024402Z
LAST-MODIFIED:20250911T141102Z
UID:10001970-1758967200-1758974400@www.drikungtmc.com
SUMMARY:Sri Heruka Chakrasamvara Empowerment
DESCRIPTION:in Vajrayana Buddhism\, Chakrasamvara (Heruka) is regarded as one of the most profound and central Yidam practices. He embodies the inseparable union of wisdom and compassion\, transforming ordinary appearances and desires into the path of enlightenment. \nEmpowerment led by Khenpo Tsultrim Tenzin RInpoche \nPlease join us in-person or by Zoom using login information on TMC website homepage.
URL:https://www.drikungtmc.com/event/sri-heruka-chakrasamvara-empowerment/
LOCATION:Tibetan Meditation Center
CATEGORIES:Empowerment
ATTACH;FMTTYPE=image/jpeg:https://www.drikungtmc.com/wp-content/uploads/2025/08/PHOTO-2025-08-19-15-57-30-scaled.jpg
ORGANIZER;CN="Tony Hursey":MAILTO:drikungweb@gmail.com
END:VEVENT
BEGIN:VEVENT
DTSTART;TZID=America/New_York:20251214T100000
DTEND;TZID=America/New_York:20251214T123000
DTSTAMP:20260422T182040
CREATED:20251208T030804Z
LAST-MODIFIED:20251208T030804Z
UID:10002057-1765706400-1765715400@www.drikungtmc.com
SUMMARY:Singhamukha Empowerment and Transmission
DESCRIPTION:Within the profound expanse of Tantrayana\, Singhamukha (Sengdongma)\, the lion-faced wisdom ḍākinī arises in a blaze of enlightened wrath\, her radiant clarity cutting through every veil of ignorance and confusion. As the fierce expression of primordial wisdom\, she dismantles obstructing forces and swiftly overturns the flow of negative energies. In the tantric understanding\, her power to  reverse black magic is not an act of harm\, but the transformative force of awakened mind: turning back destructive influences\, dissolving harmful intentions\, and restoring all phenomena to their pure\, luminous nature. Her wrath is inseparable from boundless compassion\, protecting practitioners and clearing the path toward realization. \n*On Dakini Day\, December 14th\, 2025*\, the *sacred Singhamukha Empowerment and Transmission* will be bestowed by *Khenpo Tsultrim Tenzin Rinpoche* at the *Tibetan Meditation Center*. This rare occasion offers practitioners the chance to enter directly into the blessings of the lion-faced ḍākinī—receiving her fearless energy\, her purifying activity\, and her swift liberating presence. May all who enter her mandala be shielded from obstacles\, uplifted by wisdom\, and guided toward the indestructible clarity of the awakened mind.
URL:https://www.drikungtmc.com/event/singhamukha-empowerment-and-transmission/
LOCATION:Tibetan Meditation Center
CATEGORIES:Empowerment
ORGANIZER;CN="Tony Hursey":MAILTO:drikungweb@gmail.com
END:VEVENT
BEGIN:VEVENT
DTSTART;TZID=America/New_York:20251227T100000
DTEND;TZID=America/New_York:20251227T160000
DTSTAMP:20260422T182040
CREATED:20251208T032432Z
LAST-MODIFIED:20251210T214302Z
UID:10002058-1766829600-1766851200@www.drikungtmc.com
SUMMARY:Winter Retreat Day 1
DESCRIPTION:10am: Sambhogakaya Medicine Buddha empowerment \n1:30pm: Medicine Buddha teachings \nPlease join in-person or by Zoom using login information on homepage \nCost for Day 1 is $35\, you can pay using donation feature from homepage (PayPal) \nPleaase email drikungweb@gmail.com to let us know which days will be participating\, and the amount you are paying.
URL:https://www.drikungtmc.com/event/winter-retreat-day-1/
LOCATION:Tibetan Meditation Center
CATEGORIES:Empowerment,Retreat
ORGANIZER;CN="Tony Hursey":MAILTO:drikungweb@gmail.com
END:VEVENT
BEGIN:VEVENT
DTSTART;TZID=America/New_York:20260110T100000
DTEND;TZID=America/New_York:20260110T120000
DTSTAMP:20260422T182040
CREATED:20260107T225450Z
LAST-MODIFIED:20260107T225450Z
UID:10002064-1768039200-1768046400@www.drikungtmc.com
SUMMARY:Simhanada Empowerment
DESCRIPTION:Siṃhanāda — The Lion’s Roar of Compassion \nEmpowerment & Teaching \nThe Tibetan Meditation Center is honored to host a profound Vajrayāna event on Siṃhanāda\, a powerful manifestation of Avalokiteśvara\, the Bodhisattva of Compassion. \nSiṃhanāda\, the Lion’s Roar\, represents the fearless proclamation of awakening truth arising from direct realization. Through mantra\, ritual\, and wisdom transmission\, this practice is traditionally associated with healing\, protection\, and the pacification of obstacles\, including disease and environmental imbalance. \nBestowed by\nKhenpo Tsultrim Tenzin Rinpoche \nPlease join in-person or by ZOOM using login information on homepage
URL:https://www.drikungtmc.com/event/simhanada-empowerment/
LOCATION:Tibetan Meditation Center
CATEGORIES:Empowerment
ORGANIZER;CN="Tony Hursey":MAILTO:drikungweb@gmail.com
END:VEVENT
END:VCALENDAR