BEGIN:VCALENDAR
VERSION:2.0
PRODID:-//Tibetan Mediation Center - ECPv6.15.20//NONSGML v1.0//EN
CALSCALE:GREGORIAN
METHOD:PUBLISH
X-WR-CALNAME:Tibetan Mediation Center
X-ORIGINAL-URL:https://www.drikungtmc.com
X-WR-CALDESC:Events for Tibetan Mediation Center
REFRESH-INTERVAL;VALUE=DURATION:PT1H
X-Robots-Tag:noindex
X-PUBLISHED-TTL:PT1H
BEGIN:VTIMEZONE
TZID:America/New_York
BEGIN:DAYLIGHT
TZOFFSETFROM:-0500
TZOFFSETTO:-0400
TZNAME:EDT
DTSTART:20240310T070000
END:DAYLIGHT
BEGIN:STANDARD
TZOFFSETFROM:-0400
TZOFFSETTO:-0500
TZNAME:EST
DTSTART:20241103T060000
END:STANDARD
BEGIN:DAYLIGHT
TZOFFSETFROM:-0500
TZOFFSETTO:-0400
TZNAME:EDT
DTSTART:20250309T070000
END:DAYLIGHT
BEGIN:STANDARD
TZOFFSETFROM:-0400
TZOFFSETTO:-0500
TZNAME:EST
DTSTART:20251102T060000
END:STANDARD
BEGIN:DAYLIGHT
TZOFFSETFROM:-0500
TZOFFSETTO:-0400
TZNAME:EDT
DTSTART:20260308T070000
END:DAYLIGHT
BEGIN:STANDARD
TZOFFSETFROM:-0400
TZOFFSETTO:-0500
TZNAME:EST
DTSTART:20261101T060000
END:STANDARD
END:VTIMEZONE
BEGIN:VEVENT
DTSTART;TZID=America/New_York:20251201T090000
DTEND;TZID=America/New_York:20251201T110000
DTSTAMP:20260421T044249
CREATED:20250302T031527Z
LAST-MODIFIED:20251208T033552Z
UID:10001167-1764579600-1764586800@www.drikungtmc.com
SUMMARY:Buddha Amitayus Practice
DESCRIPTION:TMC will conduct the Buddha Amitayus practice for His Holiness Drikung Kyabgon Chetsang Rinpoche’s long life every Monday\, \nStarting March 3rd and continuing until the end of the Tibetan lunar year next year
URL:https://www.drikungtmc.com/event/buddha-amitayus-practice/2025-12-01/
LOCATION:Tibetan Meditation Center
CATEGORIES:Practice,Weekly event
ORGANIZER;CN="Tony Hursey":MAILTO:drikungweb@gmail.com
END:VEVENT
BEGIN:VEVENT
DTSTART;TZID=America/New_York:20251204T183000
DTEND;TZID=America/New_York:20251204T193000
DTSTAMP:20260421T044249
CREATED:20240828T214919Z
LAST-MODIFIED:20250916T233130Z
UID:10000891-1764873000-1764876600@www.drikungtmc.com
SUMMARY:Vajrassatva Practice
DESCRIPTION:Vajrasattva Practice led by Lama Rigzin \nPlease join in-person or by ZOOM at: \nID 872 1875 1087 PW tmcdharma \nTMC offers our programs in the tradition of generosity. However\, donations to support our efforts are always welcome.
URL:https://www.drikungtmc.com/event/vajrassatva-practice/2025-12-04/
LOCATION:Tibetan Meditation Center
CATEGORIES:Practice
ORGANIZER;CN="Tony Hursey":MAILTO:drikungweb@gmail.com
END:VEVENT
BEGIN:VEVENT
DTSTART;TZID=America/New_York:20251208T090000
DTEND;TZID=America/New_York:20251208T110000
DTSTAMP:20260421T044249
CREATED:20250302T031527Z
LAST-MODIFIED:20251208T033552Z
UID:10001168-1765184400-1765191600@www.drikungtmc.com
SUMMARY:Buddha Amitayus Practice
DESCRIPTION:TMC will conduct the Buddha Amitayus practice for His Holiness Drikung Kyabgon Chetsang Rinpoche’s long life every Monday\, \nStarting March 3rd and continuing until the end of the Tibetan lunar year next year
URL:https://www.drikungtmc.com/event/buddha-amitayus-practice/2025-12-08/
LOCATION:Tibetan Meditation Center
CATEGORIES:Practice,Weekly event
ORGANIZER;CN="Tony Hursey":MAILTO:drikungweb@gmail.com
END:VEVENT
BEGIN:VEVENT
DTSTART;TZID=America/New_York:20251211T183000
DTEND;TZID=America/New_York:20251211T193000
DTSTAMP:20260421T044249
CREATED:20240828T214919Z
LAST-MODIFIED:20250916T233130Z
UID:10000892-1765477800-1765481400@www.drikungtmc.com
SUMMARY:Vajrassatva Practice
DESCRIPTION:Vajrasattva Practice led by Lama Rigzin \nPlease join in-person or by ZOOM at: \nID 872 1875 1087 PW tmcdharma \nTMC offers our programs in the tradition of generosity. However\, donations to support our efforts are always welcome.
URL:https://www.drikungtmc.com/event/vajrassatva-practice/2025-12-11/
LOCATION:Tibetan Meditation Center
CATEGORIES:Practice
ORGANIZER;CN="Tony Hursey":MAILTO:drikungweb@gmail.com
END:VEVENT
BEGIN:VEVENT
DTSTART;TZID=America/New_York:20251214T100000
DTEND;TZID=America/New_York:20251214T123000
DTSTAMP:20260421T044249
CREATED:20251208T030804Z
LAST-MODIFIED:20251208T030804Z
UID:10002057-1765706400-1765715400@www.drikungtmc.com
SUMMARY:Singhamukha Empowerment and Transmission
DESCRIPTION:Within the profound expanse of Tantrayana\, Singhamukha (Sengdongma)\, the lion-faced wisdom ḍākinī arises in a blaze of enlightened wrath\, her radiant clarity cutting through every veil of ignorance and confusion. As the fierce expression of primordial wisdom\, she dismantles obstructing forces and swiftly overturns the flow of negative energies. In the tantric understanding\, her power to  reverse black magic is not an act of harm\, but the transformative force of awakened mind: turning back destructive influences\, dissolving harmful intentions\, and restoring all phenomena to their pure\, luminous nature. Her wrath is inseparable from boundless compassion\, protecting practitioners and clearing the path toward realization. \n*On Dakini Day\, December 14th\, 2025*\, the *sacred Singhamukha Empowerment and Transmission* will be bestowed by *Khenpo Tsultrim Tenzin Rinpoche* at the *Tibetan Meditation Center*. This rare occasion offers practitioners the chance to enter directly into the blessings of the lion-faced ḍākinī—receiving her fearless energy\, her purifying activity\, and her swift liberating presence. May all who enter her mandala be shielded from obstacles\, uplifted by wisdom\, and guided toward the indestructible clarity of the awakened mind.
URL:https://www.drikungtmc.com/event/singhamukha-empowerment-and-transmission/
LOCATION:Tibetan Meditation Center
CATEGORIES:Empowerment
ORGANIZER;CN="Tony Hursey":MAILTO:drikungweb@gmail.com
END:VEVENT
BEGIN:VEVENT
DTSTART;TZID=America/New_York:20251215T090000
DTEND;TZID=America/New_York:20251215T110000
DTSTAMP:20260421T044249
CREATED:20250302T031527Z
LAST-MODIFIED:20251208T033552Z
UID:10001169-1765789200-1765796400@www.drikungtmc.com
SUMMARY:Buddha Amitayus Practice
DESCRIPTION:TMC will conduct the Buddha Amitayus practice for His Holiness Drikung Kyabgon Chetsang Rinpoche’s long life every Monday\, \nStarting March 3rd and continuing until the end of the Tibetan lunar year next year
URL:https://www.drikungtmc.com/event/buddha-amitayus-practice/2025-12-15/
LOCATION:Tibetan Meditation Center
CATEGORIES:Practice,Weekly event
ORGANIZER;CN="Tony Hursey":MAILTO:drikungweb@gmail.com
END:VEVENT
BEGIN:VEVENT
DTSTART;TZID=America/New_York:20251218T183000
DTEND;TZID=America/New_York:20251218T193000
DTSTAMP:20260421T044249
CREATED:20240828T214919Z
LAST-MODIFIED:20250916T233130Z
UID:10000893-1766082600-1766086200@www.drikungtmc.com
SUMMARY:Vajrassatva Practice
DESCRIPTION:Vajrasattva Practice led by Lama Rigzin \nPlease join in-person or by ZOOM at: \nID 872 1875 1087 PW tmcdharma \nTMC offers our programs in the tradition of generosity. However\, donations to support our efforts are always welcome.
URL:https://www.drikungtmc.com/event/vajrassatva-practice/2025-12-18/
LOCATION:Tibetan Meditation Center
CATEGORIES:Practice
ORGANIZER;CN="Tony Hursey":MAILTO:drikungweb@gmail.com
END:VEVENT
BEGIN:VEVENT
DTSTART;TZID=America/New_York:20251225T183000
DTEND;TZID=America/New_York:20251225T193000
DTSTAMP:20260421T044249
CREATED:20240828T214919Z
LAST-MODIFIED:20250916T233130Z
UID:10000894-1766687400-1766691000@www.drikungtmc.com
SUMMARY:Vajrassatva Practice
DESCRIPTION:Vajrasattva Practice led by Lama Rigzin \nPlease join in-person or by ZOOM at: \nID 872 1875 1087 PW tmcdharma \nTMC offers our programs in the tradition of generosity. However\, donations to support our efforts are always welcome.
URL:https://www.drikungtmc.com/event/vajrassatva-practice/2025-12-25/
LOCATION:Tibetan Meditation Center
CATEGORIES:Practice
ORGANIZER;CN="Tony Hursey":MAILTO:drikungweb@gmail.com
END:VEVENT
BEGIN:VEVENT
DTSTART;TZID=America/New_York:20251227T100000
DTEND;TZID=America/New_York:20251227T160000
DTSTAMP:20260421T044249
CREATED:20251208T032432Z
LAST-MODIFIED:20251210T214302Z
UID:10002058-1766829600-1766851200@www.drikungtmc.com
SUMMARY:Winter Retreat Day 1
DESCRIPTION:10am: Sambhogakaya Medicine Buddha empowerment \n1:30pm: Medicine Buddha teachings \nPlease join in-person or by Zoom using login information on homepage \nCost for Day 1 is $35\, you can pay using donation feature from homepage (PayPal) \nPleaase email drikungweb@gmail.com to let us know which days will be participating\, and the amount you are paying.
URL:https://www.drikungtmc.com/event/winter-retreat-day-1/
LOCATION:Tibetan Meditation Center
CATEGORIES:Empowerment,Retreat
ORGANIZER;CN="Tony Hursey":MAILTO:drikungweb@gmail.com
END:VEVENT
BEGIN:VEVENT
DTSTART;TZID=America/New_York:20251228T100000
DTEND;TZID=America/New_York:20251228T160000
DTSTAMP:20260421T044249
CREATED:20251208T032618Z
LAST-MODIFIED:20251210T214451Z
UID:10002059-1766916000-1766937600@www.drikungtmc.com
SUMMARY:Winter Retreat Day 2
DESCRIPTION:10am: Teaching on Medicine Buddha \n1:30pm: Medicine Buddha practice \nPlease join in-person or by Zoom using login information on homepage \nCost for Day 2 is $35\, you can pay using donation feature from homepage (PayPal) \nPleaase email drikungweb@gmail.com to let us know which days will be participating\, and the amount you are paying.
URL:https://www.drikungtmc.com/event/winter-retreat-day-2/
LOCATION:Tibetan Meditation Center
CATEGORIES:Retreat,Teaching
ORGANIZER;CN="Tony Hursey":MAILTO:drikungweb@gmail.com
END:VEVENT
BEGIN:VEVENT
DTSTART;TZID=America/New_York:20251229T100000
DTEND;TZID=America/New_York:20251229T160000
DTSTAMP:20260421T044249
CREATED:20251208T032826Z
LAST-MODIFIED:20251210T214419Z
UID:10002060-1767002400-1767024000@www.drikungtmc.com
SUMMARY:Winter Retreat Day 3
DESCRIPTION:10am: Teaching on Medicine Buddha Sutra \n1:30pm: Medicine Buddha practice \nPlease join in-person or by Zoom using login information on homepage \nCost for Day 3 is $25\, you can pay using donation feature from homepage (PayPal) \nPleaase email drikungweb@gmail.com to let us know which days will be participating\, and the amount you are paying.
URL:https://www.drikungtmc.com/event/winter-retreat-day-3/
LOCATION:Tibetan Meditation Center
CATEGORIES:Practice,Retreat,Teaching
ORGANIZER;CN="Tony Hursey":MAILTO:drikungweb@gmail.com
END:VEVENT
BEGIN:VEVENT
DTSTART;TZID=America/New_York:20251230T100000
DTEND;TZID=America/New_York:20251230T160000
DTSTAMP:20260421T044249
CREATED:20251208T032921Z
LAST-MODIFIED:20251210T214521Z
UID:10002061-1767088800-1767110400@www.drikungtmc.com
SUMMARY:Winter Retreat Day 4
DESCRIPTION:10am: Teaching on Medicine Buddha Sutra \n1:30pm: Medicine Buddha practice \nPlease join in-person or by Zoom using login information on homepage \nCost for Day 4 is $25\, you can pay using donation feature from homepage (PayPal) \nPleaase email drikungweb@gmail.com to let us know which days will be participating\, and the amount you are paying.
URL:https://www.drikungtmc.com/event/winter-retreat-day-4/
LOCATION:Tibetan Meditation Center
CATEGORIES:Practice,Retreat,Teaching
ORGANIZER;CN="Tony Hursey":MAILTO:drikungweb@gmail.com
END:VEVENT
BEGIN:VEVENT
DTSTART;TZID=America/New_York:20251231T100000
DTEND;TZID=America/New_York:20251231T160000
DTSTAMP:20260421T044249
CREATED:20251208T033011Z
LAST-MODIFIED:20251210T214559Z
UID:10002062-1767175200-1767196800@www.drikungtmc.com
SUMMARY:Winter Retreat Day 5
DESCRIPTION:10am: Teaching on Medicine Buddha Sutra \n1:30pm: Medicine Buddha practice \nPlease join in-person or by Zoom using login information on homepage \nCost for Day 5 is $25\, you can pay using donation feature from homepage (PayPal) \nPleaase email drikungweb@gmail.com to let us know which days will be participating\, and the amount you are paying.
URL:https://www.drikungtmc.com/event/winter-retreat-day-5/
LOCATION:Tibetan Meditation Center
CATEGORIES:Practice,Retreat,Teaching
ORGANIZER;CN="Tony Hursey":MAILTO:drikungweb@gmail.com
END:VEVENT
END:VCALENDAR